BEGIN:VCALENDAR
VERSION:2.0
PRODID:-//jEvents 2.0 for Joomla//EN
CALSCALE:GREGORIAN
METHOD:PUBLISH
BEGIN:VTIMEZONE
TZID:Europe/Berlin
BEGIN:STANDARD
DTSTART:20281110T000000
RDATE:20290325T030000
TZOFFSETFROM:+0200
TZOFFSETTO:+0100
TZNAME:Europe/Berlin CET
END:STANDARD
END:VTIMEZONE
BEGIN:VEVENT
UID:20291111_7j0bu8k849mqr764j5r2avuv3k@google.com
CATEGORIES:Feiertage, Ferien
CLASS:PUBLIC
CREATED:20241215T173041
SUMMARY:St. Martin
DESCRIPTION:Gedenktag<br/>Wenn Sie Gedenktage ausblenden möchten, rufen Sie die Google 
 Kalender-Einstellungen auf > Feiertage in Deutschland
DTSTAMP:20260425T155438
DTSTART;TZID=Europe/Berlin;VALUE=DATE:20291111
DTEND;TZID=Europe/Berlin;VALUE=DATE:20291112
SEQUENCE:0
TRANSP:OPAQUE
END:VEVENT
END:VCALENDAR