BEGIN:VCALENDAR
VERSION:2.0
PRODID:-//jEvents 2.0 for Joomla//EN
CALSCALE:GREGORIAN
METHOD:PUBLISH
BEGIN:VTIMEZONE
TZID:Europe/Berlin
BEGIN:STANDARD
DTSTART:20271031T020000
RDATE:20280326T030000
TZOFFSETFROM:+0200
TZOFFSETTO:+0100
TZNAME:Europe/Berlin CET
END:STANDARD
BEGIN:STANDARD
DTSTART:20281029T020000
RDATE:20290325T030000
TZOFFSETFROM:+0200
TZOFFSETTO:+0100
TZNAME:Europe/Berlin CET
END:STANDARD
BEGIN:DAYLIGHT
DTSTART:20271031T010000
RDATE:20271031T020000
TZOFFSETFROM:+0100
TZOFFSETTO:+0200
TZNAME:Europe/Berlin CEST
END:DAYLIGHT
BEGIN:DAYLIGHT
DTSTART:20280326T030000
RDATE:20281029T020000
TZOFFSETFROM:+0100
TZOFFSETTO:+0200
TZNAME:Europe/Berlin CEST
END:DAYLIGHT
END:VTIMEZONE
BEGIN:VEVENT
UID:20281031_tjlj9deqg36q4qm9hvnqrphdm4@google.com
CATEGORIES:Feiertage, Ferien
CLASS:PUBLIC
CREATED:20241215T173042
SUMMARY:Reformationstag (regionaler Feiertag)
DESCRIPTION:Feiertag in Brandenburg, Mecklenburg-Vorpommern, Sachsen, Sachsen-Anhalt, T
 hüringen, Schleswig-Holstein, Hamburg, Niedersachsen, Bremen
DTSTAMP:20260423T120534
DTSTART;TZID=Europe/Berlin;VALUE=DATE:20281031
DTEND;TZID=Europe/Berlin;VALUE=DATE:20281101
SEQUENCE:0
TRANSP:OPAQUE
END:VEVENT
END:VCALENDAR