BEGIN:VCALENDAR
VERSION:2.0
PRODID:-//jEvents 2.0 for Joomla//EN
CALSCALE:GREGORIAN
METHOD:PUBLISH
BEGIN:VTIMEZONE
TZID:Europe/Berlin
BEGIN:STANDARD
DTSTART:20281215T000000
RDATE:20290325T030000
TZOFFSETFROM:+0200
TZOFFSETTO:+0100
TZNAME:Europe/Berlin CET
END:STANDARD
END:VTIMEZONE
BEGIN:VEVENT
UID:20291216_opg38kct9roq2qn46brmgcvt4o@google.com
CATEGORIES:Feiertage, Ferien
CLASS:PUBLIC
CREATED:20241215T173043
SUMMARY:Dritter Advent
DESCRIPTION:Gedenktag<br/>Wenn Sie Gedenktage ausblenden möchten, rufen Sie die Google 
 Kalender-Einstellungen auf > Feiertage in Deutschland
DTSTAMP:20260425T135935
DTSTART;TZID=Europe/Berlin;VALUE=DATE:20291216
DTEND;TZID=Europe/Berlin;VALUE=DATE:20291217
SEQUENCE:0
TRANSP:OPAQUE
END:VEVENT
END:VCALENDAR