BEGIN:VCALENDAR
VERSION:2.0
PRODID:-//jEvents 2.0 for Joomla//EN
CALSCALE:GREGORIAN
METHOD:PUBLISH
BEGIN:VTIMEZONE
TZID:Europe/Berlin
BEGIN:STANDARD
DTSTART:20281029T020000
RDATE:20290325T030000
TZOFFSETFROM:+0200
TZOFFSETTO:+0100
TZNAME:Europe/Berlin CET
END:STANDARD
BEGIN:DAYLIGHT
DTSTART:20280509T000000
RDATE:20281029T020000
TZOFFSETFROM:+0100
TZOFFSETTO:+0200
TZNAME:Europe/Berlin CEST
END:DAYLIGHT
END:VTIMEZONE
BEGIN:VEVENT
UID:20290510_ad633eng0q07mjobmsl1u90918@google.com
CATEGORIES:Feiertage, Ferien
CLASS:PUBLIC
CREATED:20241215T173043
SUMMARY:Christi Himmelfahrt
DESCRIPTION:Gesetzlicher Feiertag
DTSTAMP:20260425T202656
DTSTART;TZID=Europe/Berlin;VALUE=DATE:20290510
DTEND;TZID=Europe/Berlin;VALUE=DATE:20290511
SEQUENCE:0
TRANSP:OPAQUE
END:VEVENT
END:VCALENDAR