BEGIN:VCALENDAR
VERSION:2.0
PRODID:-//jEvents 2.0 for Joomla//EN
CALSCALE:GREGORIAN
METHOD:PUBLISH
BEGIN:VTIMEZONE
TZID:Europe/Berlin
END:VTIMEZONE
BEGIN:VEVENT
UID:20300106_bomfuep5r6tlmq7e6u5g9rsir0@google.com
CATEGORIES:Feiertage, Ferien
CLASS:PUBLIC
CREATED:20250406T132846
SUMMARY:Heilige Drei Könige (regionaler Feiertag)
DESCRIPTION:Feiertag in Baden-Württemberg, Bayern, Sachsen-Anhalt
DTSTAMP:20260425T110358
DTSTART;TZID=Europe/Berlin;VALUE=DATE:20300106
DTEND;TZID=Europe/Berlin;VALUE=DATE:20300107
SEQUENCE:0
TRANSP:OPAQUE
END:VEVENT
END:VCALENDAR