BEGIN:VCALENDAR
VERSION:2.0
PRODID:-//jEvents 2.0 for Joomla//EN
CALSCALE:GREGORIAN
METHOD:PUBLISH
BEGIN:VTIMEZONE
TZID:Europe/Berlin
END:VTIMEZONE
BEGIN:VEVENT
UID:20300214_6quohmc7gu7mjh2et13mfqeqg0@google.com
CATEGORIES:Feiertage, Ferien
CLASS:PUBLIC
CREATED:20250406T132846
SUMMARY:Valentinstag
DESCRIPTION:Gedenktag<br/>Wenn Sie Gedenktage ausblenden möchten, rufen Sie die Google 
 Kalender-Einstellungen auf > Feiertage in Deutschland
DTSTAMP:20260425T192009
DTSTART;TZID=Europe/Berlin;VALUE=DATE:20300214
DTEND;TZID=Europe/Berlin;VALUE=DATE:20300215
SEQUENCE:0
TRANSP:OPAQUE
END:VEVENT
END:VCALENDAR