BEGIN:VCALENDAR
VERSION:2.0
PRODID:-//jEvents 2.0 for Joomla//EN
CALSCALE:GREGORIAN
METHOD:PUBLISH
BEGIN:VTIMEZONE
TZID:Europe/Berlin
END:VTIMEZONE
BEGIN:VEVENT
UID:20300418_2b38da0bcc5iv3a5bgavo5rgp4@google.com
CATEGORIES:Feiertage, Ferien
CLASS:PUBLIC
CREATED:20250406T132846
SUMMARY:Gründonnerstag (regionaler Feiertag)
DESCRIPTION:Gedenktag in Baden-Württemberg, Bayern, Berlin, Brandenburg, Bremen, Hambur
 g, Hessen, Mecklenburg-Vorpommern, Niedersachsen, Nordrhein-Westfalen, Rhei
 nland-Pfalz, Saarland, Sachsen, Sachsen-Anhalt, Schleswig-Holstein, Thüring
 en<br/>Wenn Sie Gedenktage ausblenden möchten, rufen Sie die Google Kalende
 r-Einstellungen auf > Feiertage in Deutschland
DTSTAMP:20260423T200327
DTSTART;TZID=Europe/Berlin;VALUE=DATE:20300418
DTEND;TZID=Europe/Berlin;VALUE=DATE:20300419
SEQUENCE:0
TRANSP:OPAQUE
END:VEVENT
END:VCALENDAR