BEGIN:VCALENDAR
VERSION:2.0
PRODID:-//jEvents 2.0 for Joomla//EN
CALSCALE:GREGORIAN
METHOD:PUBLISH
BEGIN:VTIMEZONE
TZID:Europe/Berlin
END:VTIMEZONE
BEGIN:VEVENT
UID:20300419_7bdncf2g8ou1d2jbu734r6u3tk@google.com
CATEGORIES:Feiertage, Ferien
CLASS:PUBLIC
CREATED:20250406T132846
SUMMARY:Karfreitag
DESCRIPTION:Gesetzlicher Feiertag
DTSTAMP:20260425T135218
DTSTART;TZID=Europe/Berlin;VALUE=DATE:20300419
DTEND;TZID=Europe/Berlin;VALUE=DATE:20300420
SEQUENCE:0
TRANSP:OPAQUE
END:VEVENT
END:VCALENDAR