BEGIN:VCALENDAR
VERSION:2.0
PRODID:-//jEvents 2.0 for Joomla//EN
CALSCALE:GREGORIAN
METHOD:PUBLISH
BEGIN:VTIMEZONE
TZID:Europe/Berlin
END:VTIMEZONE
BEGIN:VEVENT
UID:20300420_c2g3c847gdfr0u7843shimo8js@google.com
CATEGORIES:Feiertage, Ferien
CLASS:PUBLIC
CREATED:20250406T132846
SUMMARY:Karsamstag (regionaler Feiertag)
DESCRIPTION:Gedenktag in Bayern, Hessen, Niedersachsen, Saarland, Rheinland-Pfalz\nWenn
  Sie Gedenktage ausblenden möchten, rufen Sie die Google Kalender-Einstellu
 ngen auf &gt; Feiertage in Deutschland
X-ALT-DESC;FMTTYPE=text/html:Gedenktag in Bayern, Hessen, Niedersachsen, Saarland, Rheinland-Pfalz<br/>W
 enn Sie Gedenktage ausblenden möchten, rufen Sie die Google Kalender-Einste
 llungen auf > Feiertage in Deutschland
DTSTAMP:20260423T210019
DTSTART;TZID=Europe/Berlin;VALUE=DATE:20300420
DTEND;TZID=Europe/Berlin;VALUE=DATE:20300421
SEQUENCE:0
TRANSP:OPAQUE
END:VEVENT
END:VCALENDAR