BEGIN:VCALENDAR
VERSION:2.0
PRODID:-//jEvents 2.0 for Joomla//EN
CALSCALE:GREGORIAN
METHOD:PUBLISH
BEGIN:VTIMEZONE
TZID:Europe/Berlin
END:VTIMEZONE
BEGIN:VEVENT
UID:20300422_qe727qo8t6paae2r0gmobom8js@google.com
CATEGORIES:Feiertage, Ferien
CLASS:PUBLIC
CREATED:20250406T132846
SUMMARY:Ostermontag
DESCRIPTION:Gesetzlicher Feiertag
DTSTAMP:20260425T143135
DTSTART;TZID=Europe/Berlin;VALUE=DATE:20300422
DTEND;TZID=Europe/Berlin;VALUE=DATE:20300423
SEQUENCE:0
TRANSP:OPAQUE
END:VEVENT
END:VCALENDAR