BEGIN:VCALENDAR
VERSION:2.0
PRODID:-//jEvents 2.0 for Joomla//EN
CALSCALE:GREGORIAN
METHOD:PUBLISH
BEGIN:VTIMEZONE
TZID:Europe/Berlin
END:VTIMEZONE
BEGIN:VEVENT
UID:20300512_llndno7jbelh1vn0cumcp6uorc@google.com
CATEGORIES:Feiertage, Ferien
CLASS:PUBLIC
CREATED:20250406T132846
SUMMARY:Muttertag
DESCRIPTION:Gedenktag<br/>Wenn Sie Gedenktage ausblenden möchten, rufen Sie die Google 
 Kalender-Einstellungen auf > Feiertage in Deutschland
DTSTAMP:20260425T153205
DTSTART;TZID=Europe/Berlin;VALUE=DATE:20300512
DTEND;TZID=Europe/Berlin;VALUE=DATE:20300513
SEQUENCE:0
TRANSP:OPAQUE
END:VEVENT
END:VCALENDAR