BEGIN:VCALENDAR
VERSION:2.0
PRODID:-//jEvents 2.0 for Joomla//EN
CALSCALE:GREGORIAN
METHOD:PUBLISH
BEGIN:VTIMEZONE
TZID:Europe/Berlin
END:VTIMEZONE
BEGIN:VEVENT
UID:20300530_2dop1m7rbq2s97ul8jvpr452gg@google.com
CATEGORIES:Feiertage, Ferien
CLASS:PUBLIC
CREATED:20250406T132846
SUMMARY:Christi Himmelfahrt
DESCRIPTION:Gesetzlicher Feiertag
DTSTAMP:20260423T210841
DTSTART;TZID=Europe/Berlin;VALUE=DATE:20300530
DTEND;TZID=Europe/Berlin;VALUE=DATE:20300531
SEQUENCE:0
TRANSP:OPAQUE
END:VEVENT
END:VCALENDAR