BEGIN:VCALENDAR
VERSION:2.0
PRODID:-//jEvents 2.0 for Joomla//EN
CALSCALE:GREGORIAN
METHOD:PUBLISH
BEGIN:VTIMEZONE
TZID:Europe/Berlin
END:VTIMEZONE
BEGIN:VEVENT
UID:20300530_ibg5gfmsrsmfaij510qu3us2rc@google.com
CATEGORIES:Feiertage, Ferien
CLASS:PUBLIC
CREATED:20250406T132846
SUMMARY:Vatertag
DESCRIPTION:Gedenktag\nWenn Sie Gedenktage ausblenden möchten, rufen Sie die Google Kal
 ender-Einstellungen auf &gt; Feiertage in Deutschland
X-ALT-DESC;FMTTYPE=text/html:Gedenktag<br/>Wenn Sie Gedenktage ausblenden möchten, rufen Sie die Google 
 Kalender-Einstellungen auf > Feiertage in Deutschland
DTSTAMP:20260425T202701
DTSTART;TZID=Europe/Berlin;VALUE=DATE:20300530
DTEND;TZID=Europe/Berlin;VALUE=DATE:20300531
SEQUENCE:0
TRANSP:OPAQUE
END:VEVENT
END:VCALENDAR