BEGIN:VCALENDAR
VERSION:2.0
PRODID:-//jEvents 2.0 for Joomla//EN
CALSCALE:GREGORIAN
METHOD:PUBLISH
BEGIN:VTIMEZONE
TZID:Europe/Berlin
END:VTIMEZONE
BEGIN:VEVENT
UID:20300620_vih7hb09fgoia3ala2sb6tk0h4@google.com
CATEGORIES:Feiertage, Ferien
CLASS:PUBLIC
CREATED:20250406T132846
SUMMARY:Fronleichnam (regionaler Feiertag)
DESCRIPTION:Feiertag in Baden-Württemberg, Bayern, Hessen, Nordrhein-Westfalen, Rheinla
 nd-Pfalz, Saarland, Sachsen, Thüringen
DTSTAMP:20260423T200007
DTSTART;TZID=Europe/Berlin;VALUE=DATE:20300620
DTEND;TZID=Europe/Berlin;VALUE=DATE:20300621
SEQUENCE:0
TRANSP:OPAQUE
END:VEVENT
END:VCALENDAR