BEGIN:VCALENDAR
VERSION:2.0
PRODID:-//jEvents 2.0 for Joomla//EN
CALSCALE:GREGORIAN
METHOD:PUBLISH
BEGIN:VTIMEZONE
TZID:Europe/Berlin
END:VTIMEZONE
BEGIN:VEVENT
UID:20300920_shb2oh7i3nmjgq35qe81nru5ug@google.com
CATEGORIES:Feiertage, Ferien
CLASS:PUBLIC
CREATED:20250406T132846
SUMMARY:Weltkindertag (Thüringen)
DESCRIPTION:Feiertag in Thüringen
DTSTAMP:20260425T121136
DTSTART;TZID=Europe/Berlin;VALUE=DATE:20300920
DTEND;TZID=Europe/Berlin;VALUE=DATE:20300921
SEQUENCE:0
TRANSP:OPAQUE
END:VEVENT
END:VCALENDAR