BEGIN:VCALENDAR
VERSION:2.0
PRODID:-//jEvents 2.0 for Joomla//EN
CALSCALE:GREGORIAN
METHOD:PUBLISH
BEGIN:VTIMEZONE
TZID:Europe/Berlin
END:VTIMEZONE
BEGIN:VEVENT
UID:20301003_loir0f8a85s3slfohldukti1l4@google.com
CATEGORIES:Feiertage, Ferien
CLASS:PUBLIC
CREATED:20250406T132846
SUMMARY:Tag der Deutschen Einheit
DESCRIPTION:Gesetzlicher Feiertag
DTSTAMP:20260423T211009
DTSTART;TZID=Europe/Berlin;VALUE=DATE:20301003
DTEND;TZID=Europe/Berlin;VALUE=DATE:20301004
SEQUENCE:0
TRANSP:OPAQUE
END:VEVENT
END:VCALENDAR