BEGIN:VCALENDAR
VERSION:2.0
PRODID:-//jEvents 2.0 for Joomla//EN
CALSCALE:GREGORIAN
METHOD:PUBLISH
BEGIN:VTIMEZONE
TZID:Europe/Berlin
END:VTIMEZONE
BEGIN:VEVENT
UID:20301031_2oull24j3phalcfjkbm471i4uk@google.com
CATEGORIES:Feiertage, Ferien
CLASS:PUBLIC
CREATED:20250406T132846
SUMMARY:Reformationstag (regionaler Feiertag)
DESCRIPTION:Feiertag in Brandenburg, Mecklenburg-Vorpommern, Sachsen, Sachsen-Anhalt, T
 hüringen, Schleswig-Holstein, Hamburg, Niedersachsen, Bremen
DTSTAMP:20260423T195137
DTSTART;TZID=Europe/Berlin;VALUE=DATE:20301031
DTEND;TZID=Europe/Berlin;VALUE=DATE:20301101
SEQUENCE:0
TRANSP:OPAQUE
END:VEVENT
END:VCALENDAR