BEGIN:VCALENDAR
VERSION:2.0
PRODID:-//jEvents 2.0 for Joomla//EN
CALSCALE:GREGORIAN
METHOD:PUBLISH
BEGIN:VTIMEZONE
TZID:Europe/Berlin
END:VTIMEZONE
BEGIN:VEVENT
UID:20301101_hin3r3k579jd9ktoscee2nbba4@google.com
CATEGORIES:Feiertage, Ferien
CLASS:PUBLIC
CREATED:20250406T132847
SUMMARY:Allerheiligen (regionaler Feiertag)
DESCRIPTION:Feiertag in Baden-Württemberg, Bayern, Nordrhein-Westfalen, Rheinland-Pfalz
 , Saarland
DTSTAMP:20260423T195225
DTSTART;TZID=Europe/Berlin;VALUE=DATE:20301101
DTEND;TZID=Europe/Berlin;VALUE=DATE:20301102
SEQUENCE:0
TRANSP:OPAQUE
END:VEVENT
END:VCALENDAR