BEGIN:VCALENDAR
VERSION:2.0
PRODID:-//jEvents 2.0 for Joomla//EN
CALSCALE:GREGORIAN
METHOD:PUBLISH
BEGIN:VTIMEZONE
TZID:Europe/Berlin
END:VTIMEZONE
BEGIN:VEVENT
UID:20300609_8f949g3rv9hrvrq08e28aqee9c@google.com
CATEGORIES:Feiertage, Ferien
CLASS:PUBLIC
CREATED:20250406T132848
SUMMARY:Pfingsten (regionaler Feiertag)
DESCRIPTION:Feiertag in Baden-Württemberg, Bayern, Berlin, Brandenburg, Bremen, Hamburg
 , Hessen, Mecklenburg-Vorpommern, Niedersachsen, Nordrhein-Westfalen, Rhein
 land-Pfalz, Saarland, Sachsen, Sachsen-Anhalt, Schleswig-Holstein, Thüringe
 n
DTSTAMP:20260425T155459
DTSTART;TZID=Europe/Berlin;VALUE=DATE:20300609
DTEND;TZID=Europe/Berlin;VALUE=DATE:20300610
SEQUENCE:0
TRANSP:OPAQUE
END:VEVENT
END:VCALENDAR