BEGIN:VCALENDAR
VERSION:2.0
PRODID:-//jEvents 2.0 for Joomla//EN
CALSCALE:GREGORIAN
METHOD:PUBLISH
BEGIN:VTIMEZONE
TZID:Europe/Berlin
END:VTIMEZONE
BEGIN:VEVENT
UID:20300815_l8vbcdbbsu7udb5dsqlbah2br4@google.com
CATEGORIES:Feiertage, Ferien
CLASS:PUBLIC
CREATED:20250406T132848
SUMMARY:Mariä Himmelfahrt (regionaler Feiertag)
DESCRIPTION:Feiertag in Bayern, Saarland, Sachsen, Thüringen
DTSTAMP:20260423T195926
DTSTART;TZID=Europe/Berlin;VALUE=DATE:20300815
DTEND;TZID=Europe/Berlin;VALUE=DATE:20300816
SEQUENCE:0
TRANSP:OPAQUE
END:VEVENT
END:VCALENDAR