BEGIN:VCALENDAR
VERSION:2.0
PRODID:-//jEvents 2.0 for Joomla//EN
CALSCALE:GREGORIAN
METHOD:PUBLISH
BEGIN:VTIMEZONE
TZID:Europe/Berlin
BEGIN:STANDARD
DTSTART:20250110T100000
RDATE:20250330T030000
TZOFFSETFROM:+0200
TZOFFSETTO:+0100
TZNAME:Europe/Berlin CET
END:STANDARD
BEGIN:STANDARD
DTSTART:20251026T020000
RDATE:20260329T030000
TZOFFSETFROM:+0200
TZOFFSETTO:+0100
TZNAME:Europe/Berlin CET
END:STANDARD
BEGIN:STANDARD
DTSTART:20261025T020000
RDATE:20270328T030000
TZOFFSETFROM:+0200
TZOFFSETTO:+0100
TZNAME:Europe/Berlin CET
END:STANDARD
BEGIN:STANDARD
DTSTART:20271031T020000
RDATE:20280326T030000
TZOFFSETFROM:+0200
TZOFFSETTO:+0100
TZNAME:Europe/Berlin CET
END:STANDARD
BEGIN:STANDARD
DTSTART:20281029T020000
RDATE:20290325T030000
TZOFFSETFROM:+0200
TZOFFSETTO:+0100
TZNAME:Europe/Berlin CET
END:STANDARD
BEGIN:DAYLIGHT
DTSTART:20250330T030000
RDATE:20251026T020000
TZOFFSETFROM:+0100
TZOFFSETTO:+0200
TZNAME:Europe/Berlin CEST
END:DAYLIGHT
BEGIN:DAYLIGHT
DTSTART:20260329T030000
RDATE:20261025T020000
TZOFFSETFROM:+0100
TZOFFSETTO:+0200
TZNAME:Europe/Berlin CEST
END:DAYLIGHT
BEGIN:DAYLIGHT
DTSTART:20270328T030000
RDATE:20271031T020000
TZOFFSETFROM:+0100
TZOFFSETTO:+0200
TZNAME:Europe/Berlin CEST
END:DAYLIGHT
BEGIN:DAYLIGHT
DTSTART:20280326T030000
RDATE:20281029T020000
TZOFFSETFROM:+0100
TZOFFSETTO:+0200
TZNAME:Europe/Berlin CEST
END:DAYLIGHT
END:VTIMEZONE
BEGIN:VEVENT
UID:0f2s5urhod63hlndhjocc5c2cu@google.com
CATEGORIES:Kegeln
CREATED:20250726T104840
SUMMARY:Ligenspiel: DSC Wanne-Eickel 2 - TuS Jahn Lüdenscheid
LOCATION:Sporthalle Wanne Eickel\, 44652 Herne\, Im Sportpark 20
DESCRIPTION:<table> <colgroup><col /> </colgroup><tbody><tr>  <td>10. Spieltag</td> </t
 r></tbody></table> <table> <colgroup><col /> </colgroup><tbody><tr>  <td><t
 able> <colgroup><col /> </colgroup><tbody><tr>  <td>Schröder, Jutta:  Tel.:
  02325-6350957 Mobil: 0157-39271270, <joomla-hidden-mail  is-link="1" is-em
 ail="1" first="ai5zY2hyb2VkZXIuaGVybmU=" last="d2ViLmRl" text="ai5zY2hyb2Vk
 ZXIuaGVybmVAd2ViLmRl" base="" >Diese E-Mail-Adresse ist vor Spambots geschü
 tzt! Zur Anzeige muss JavaScript eingeschaltet sein.</joomla-hidden-mail></
 td> </tr></tbody></table></td> </tr></tbody></table>
DTSTAMP:20260422T125329
DTSTART;TZID=Europe/Berlin:20260111T100000
DTEND;TZID=Europe/Berlin:20260111T120000
SEQUENCE:0
TRANSP:OPAQUE
END:VEVENT
END:VCALENDAR