BEGIN:VCALENDAR
VERSION:2.0
PRODID:-//jEvents 2.0 for Joomla//EN
CALSCALE:GREGORIAN
METHOD:PUBLISH
BEGIN:VTIMEZONE
TZID:Europe/Berlin
BEGIN:STANDARD
DTSTART:20251026T020000
RDATE:20260329T030000
TZOFFSETFROM:+0200
TZOFFSETTO:+0100
TZNAME:Europe/Berlin CET
END:STANDARD
BEGIN:STANDARD
DTSTART:20261025T020000
RDATE:20270328T030000
TZOFFSETFROM:+0200
TZOFFSETTO:+0100
TZNAME:Europe/Berlin CET
END:STANDARD
BEGIN:STANDARD
DTSTART:20271031T020000
RDATE:20280326T030000
TZOFFSETFROM:+0200
TZOFFSETTO:+0100
TZNAME:Europe/Berlin CET
END:STANDARD
BEGIN:STANDARD
DTSTART:20281029T020000
RDATE:20290325T030000
TZOFFSETFROM:+0200
TZOFFSETTO:+0100
TZNAME:Europe/Berlin CET
END:STANDARD
BEGIN:DAYLIGHT
DTSTART:20250415T173000
RDATE:20251026T020000
TZOFFSETFROM:+0100
TZOFFSETTO:+0200
TZNAME:Europe/Berlin CEST
END:DAYLIGHT
BEGIN:DAYLIGHT
DTSTART:20260329T030000
RDATE:20261025T020000
TZOFFSETFROM:+0100
TZOFFSETTO:+0200
TZNAME:Europe/Berlin CEST
END:DAYLIGHT
BEGIN:DAYLIGHT
DTSTART:20270328T030000
RDATE:20271031T020000
TZOFFSETFROM:+0100
TZOFFSETTO:+0200
TZNAME:Europe/Berlin CEST
END:DAYLIGHT
BEGIN:DAYLIGHT
DTSTART:20280326T030000
RDATE:20281029T020000
TZOFFSETFROM:+0100
TZOFFSETTO:+0200
TZNAME:Europe/Berlin CEST
END:DAYLIGHT
END:VTIMEZONE
BEGIN:VEVENT
UID:6ad8aac363562fc84a70f957e6a2b0f3
CATEGORIES:Raithelplatz
CREATED:19700101T010000
SUMMARY:Qigong
LOCATION:Raithelplatz 5\, 58509 Lüdenscheid\, Gymnastikhalle
DESCRIPTION:<p><a href="gruppen/qigong.html">https://tusjahn.de/gruppen/qigong.html</a>
 <br />Berufskollegs am Raithelplatz</p>
X-ALT-DESC;FMTTYPE=text/html:<p><a href="https://www.tusjahn.de/gruppen/qigong.html">https://tusjahn.de/
 gruppen/qigong.html</a><br />Berufskollegs am Raithelplatz</p>
DTSTAMP:20260420T063854
DTSTART;TZID=Europe/Berlin:20260416T173000
DTEND;TZID=Europe/Berlin:20260416T190000
SEQUENCE:0
RRULE:FREQ=WEEKLY;UNTIL=20260717T000000Z;INTERVAL=1;BYDAY=TH
EXDATE;TZID=Europe/Berlin:20260514T173000,20260604T173000
TRANSP:OPAQUE
END:VEVENT
END:VCALENDAR