BEGIN:VCALENDAR
VERSION:2.0
PRODID:-//jEvents 2.0 for Joomla//EN
CALSCALE:GREGORIAN
METHOD:PUBLISH
BEGIN:VTIMEZONE
TZID:Europe/Berlin
END:VTIMEZONE
BEGIN:VEVENT
UID:20311207_ijboant0ua3rjgmbared0q2958@google.com
CATEGORIES:Feiertage, Ferien
CLASS:PUBLIC
CREATED:20260310T094543
SUMMARY:Zweiter Advent
DESCRIPTION:Gedenktag<br/>Wenn Sie Gedenktage ausblenden möchten, rufen Sie die Google 
 Kalender-Einstellungen auf > Feiertage in Deutschland
DTSTAMP:20260425T214732
DTSTART;TZID=Europe/Berlin;VALUE=DATE:20311207
DTEND;TZID=Europe/Berlin;VALUE=DATE:20311208
SEQUENCE:0
TRANSP:OPAQUE
END:VEVENT
END:VCALENDAR