BEGIN:VCALENDAR
VERSION:2.0
PRODID:-//jEvents 2.0 for Joomla//EN
CALSCALE:GREGORIAN
METHOD:PUBLISH
BEGIN:VTIMEZONE
TZID:Europe/Berlin
END:VTIMEZONE
BEGIN:VEVENT
UID:20311224_us1k2sojo1kcojiuu51s3sl174@google.com
CATEGORIES:Feiertage, Ferien
CLASS:PUBLIC
CREATED:20260310T094543
SUMMARY:Heiligabend (halber Tag)
DESCRIPTION:Gesetzlicher Feiertag\nHalbtägiger Feiertag
X-ALT-DESC;FMTTYPE=text/html:Gesetzlicher Feiertag<br/>Halbtägiger Feiertag
DTSTAMP:20260425T232102
DTSTART;TZID=Europe/Berlin;VALUE=DATE:20311224
DTEND;TZID=Europe/Berlin;VALUE=DATE:20311225
SEQUENCE:0
TRANSP:OPAQUE
END:VEVENT
END:VCALENDAR