BEGIN:VCALENDAR
VERSION:2.0
PRODID:-//jEvents 2.0 for Joomla//EN
CALSCALE:GREGORIAN
METHOD:PUBLISH
BEGIN:VTIMEZONE
TZID:Europe/Berlin
END:VTIMEZONE
BEGIN:VEVENT
UID:20311231_6e5sih3q08hh88lta8spme1om8@google.com
CATEGORIES:Feiertage, Ferien
CLASS:PUBLIC
CREATED:20260310T094543
SUMMARY:Silvester (halber Tag)
DESCRIPTION:Gesetzlicher Feiertag<br/>Halbtägiger Feiertag
DTSTAMP:20260425T214733
DTSTART;TZID=Europe/Berlin;VALUE=DATE:20311231
DTEND;TZID=Europe/Berlin;VALUE=DATE:20320101
SEQUENCE:0
TRANSP:OPAQUE
END:VEVENT
END:VCALENDAR